BEGIN:VCALENDAR
VERSION:2.0
PRODID:-//wp-events-plugin.com//7.2.3.1//EN
BEGIN:VEVENT
UID:9@uniteagainstbookbans.org
DTSTART:20260424T050000Z
DTEND:20260424T070000Z
DTSTAMP:20260325T165242Z
URL:https://uniteagainstbookbans.org/events/the-librarians-documentary-scr
 eening/
SUMMARY:The Librarians documentary screening
DESCRIPTION:Join Global Peace 360 at the Winter Park Library during Nationa
 l Library Week for a special Indie Lens Pop Up screening of The Librarian
 s\, a film directed by Kim A. Snyder that shines a spotlight on the impor
 tance of public libraries in our public discourse.\n\nWhen Texas lawmakers
  seek to review a list of books\, librarians find themselves on the frontl
 ines of a national battle. In Florida and across the U.S.\, librarians fac
 e the impact of uniting against library collection standards that include 
 restrictions on race-related and LGBTQIA+ content. Drawing on historical c
 ontext\, The Librarians explores the broader implications for education 
 and public life.\n\nA panel that includes Winter Park Library's Executive 
 Director Melissa Schneider will follow the film.\n\nPlease register here:
  https://events.humanitix.com/the-librarians-indie-lens-pop-up-screening.
LOCATION:Winter Park Library\, 1052 W Morse Blvd\, Winter Park\, Florida\, 
 32789\, United States
GEO:28.596929;-81.363727
X-APPLE-STRUCTURED-LOCATION;VALUE=URI;X-ADDRESS=1052 W Morse Blvd\, Winter 
 Park\, Florida\, 32789\, United States;X-APPLE-RADIUS=100;X-TITLE=Winter P
 ark Library:geo:28.596929,-81.363727
END:VEVENT
END:VCALENDAR